BEGIN:VCALENDAR
VERSION:2.0
PRODID:-//Grizzly Peak Winery - Ashland, Oregon - ECPv6.15.20//NONSGML v1.0//EN
CALSCALE:GREGORIAN
METHOD:PUBLISH
X-WR-CALNAME:Grizzly Peak Winery - Ashland, Oregon
X-ORIGINAL-URL:https://grizzlypeakwinery.com
X-WR-CALDESC:Events for Grizzly Peak Winery - Ashland, Oregon
REFRESH-INTERVAL;VALUE=DURATION:PT1H
X-Robots-Tag:noindex
X-PUBLISHED-TTL:PT1H
BEGIN:VTIMEZONE
TZID:America/Los_Angeles
BEGIN:DAYLIGHT
TZOFFSETFROM:-0800
TZOFFSETTO:-0700
TZNAME:PDT
DTSTART:20250309T100000
END:DAYLIGHT
BEGIN:STANDARD
TZOFFSETFROM:-0700
TZOFFSETTO:-0800
TZNAME:PST
DTSTART:20251102T090000
END:STANDARD
BEGIN:DAYLIGHT
TZOFFSETFROM:-0800
TZOFFSETTO:-0700
TZNAME:PDT
DTSTART:20260308T100000
END:DAYLIGHT
BEGIN:STANDARD
TZOFFSETFROM:-0700
TZOFFSETTO:-0800
TZNAME:PST
DTSTART:20261101T090000
END:STANDARD
BEGIN:DAYLIGHT
TZOFFSETFROM:-0800
TZOFFSETTO:-0700
TZNAME:PDT
DTSTART:20270314T100000
END:DAYLIGHT
BEGIN:STANDARD
TZOFFSETFROM:-0700
TZOFFSETTO:-0800
TZNAME:PST
DTSTART:20271107T090000
END:STANDARD
END:VTIMEZONE
BEGIN:VEVENT
DTSTART;TZID=America/Los_Angeles:20260214T120000
DTEND;TZID=America/Los_Angeles:20260214T160000
DTSTAMP:20260424T020447
CREATED:20260206T020549Z
LAST-MODIFIED:20260206T020549Z
UID:1600-1771070400-1771084800@grizzlypeakwinery.com
SUMMARY:Wine Club
DESCRIPTION:Wine Club Members\, join us on February 14th\, between 12 and 4pm\, for our Fall Wine Club release party. \n *The winery is open for members only today. \nLocal Musician John Ivey will be here between 12:30 & 3:30pm. John’s upbeat music has been described as “Jack Johnson meets 90’s rock and his introspective lyrical style is described as “reassuring and hopeful.” We hope you’ll join us for a great afternoon of wine\, food\, music\, and friends.
URL:https://grizzlypeakwinery.com/event/wine-club-2/
LOCATION:Grizzly Peak Winery\, 1600 E Nevada St\, Ashland\, OR\, 97520\, United States
ATTACH;FMTTYPE=image/jpeg:https://grizzlypeakwinery.com/wp-content/uploads/2024/03/Unknown-1.jpeg
END:VEVENT
END:VCALENDAR