BEGIN:VCALENDAR
VERSION:2.0
PRODID:-//Grizzly Peak Winery - Ashland, Oregon - ECPv6.15.20//NONSGML v1.0//EN
CALSCALE:GREGORIAN
METHOD:PUBLISH
X-WR-CALNAME:Grizzly Peak Winery - Ashland, Oregon
X-ORIGINAL-URL:https://grizzlypeakwinery.com
X-WR-CALDESC:Events for Grizzly Peak Winery - Ashland, Oregon
REFRESH-INTERVAL;VALUE=DURATION:PT1H
X-Robots-Tag:noindex
X-PUBLISHED-TTL:PT1H
BEGIN:VTIMEZONE
TZID:America/Los_Angeles
BEGIN:DAYLIGHT
TZOFFSETFROM:-0800
TZOFFSETTO:-0700
TZNAME:PDT
DTSTART:20250309T100000
END:DAYLIGHT
BEGIN:STANDARD
TZOFFSETFROM:-0700
TZOFFSETTO:-0800
TZNAME:PST
DTSTART:20251102T090000
END:STANDARD
BEGIN:DAYLIGHT
TZOFFSETFROM:-0800
TZOFFSETTO:-0700
TZNAME:PDT
DTSTART:20260308T100000
END:DAYLIGHT
BEGIN:STANDARD
TZOFFSETFROM:-0700
TZOFFSETTO:-0800
TZNAME:PST
DTSTART:20261101T090000
END:STANDARD
BEGIN:DAYLIGHT
TZOFFSETFROM:-0800
TZOFFSETTO:-0700
TZNAME:PDT
DTSTART:20270314T100000
END:DAYLIGHT
BEGIN:STANDARD
TZOFFSETFROM:-0700
TZOFFSETTO:-0800
TZNAME:PST
DTSTART:20271107T090000
END:STANDARD
END:VTIMEZONE
BEGIN:VEVENT
DTSTART;TZID=America/Los_Angeles:20260507T190000
DTEND;TZID=America/Los_Angeles:20260507T210000
DTSTAMP:20260423T005445
CREATED:20260227T163007Z
LAST-MODIFIED:20260227T163007Z
UID:1656-1778180400-1778187600@grizzlypeakwinery.com
SUMMARY:Siskiyou Music Project Presens:  Maritn Taylor\, Solo Guitar Artistry
DESCRIPTION:Siskiyou Music Project welcomes for the first time the one and only Martin Taylor on Thursday\, May 7 at Grizzly Peak Winery in Ashland. GRAMMY nominated musician  Dr. Martin Taylor\, MBE\, is a virtuoso guitarist\, composer\, educator and musical innovator whom magazine calls  ‘THE Acoustic Guitarist of his Generation’. Widely considered to be the world’s foremost exponent of solo jazz and fingerstyle guitar playing\, Martin possesses an inimitable style that has earned him global acclaim from fellow musicians\, fans and critics alike. He dazzles audiences with a signature style that artfully combines his virtuosity\, emotion and humor with a strong\, engaging stage presence.Taylor has enjoyed a remarkable musical career spanning across five decades\, with more than 100 recordings to his credit. Completely self-taught beginning at the early age of 4\, he has invented and developed a unique way of playing the guitar that is greatly admired\, and often emulated\, by guitarists all over the world. \nTo learn more about Martin\, please visit his website at https://martintaylor.com/ \nThis performance will surely sell out so reserve your seats early! \nTickets: https://www.siskiyoumusicproject.com/season-tickets/
URL:https://grizzlypeakwinery.com/event/siskiyou-music-project-presens-maritn-taylor-solo-guitar-artistry/
LOCATION:Grizzly Peak Winery\, 1600 E Nevada St\, Ashland\, OR\, 97520\, United States
ATTACH;FMTTYPE=image/jpeg:https://grizzlypeakwinery.com/wp-content/uploads/2026/02/Unknown.jpeg
END:VEVENT
END:VCALENDAR