BEGIN:VCALENDAR
VERSION:2.0
PRODID:-//Grizzly Peak Winery - Ashland, Oregon - ECPv6.15.20//NONSGML v1.0//EN
CALSCALE:GREGORIAN
METHOD:PUBLISH
X-WR-CALNAME:Grizzly Peak Winery - Ashland, Oregon
X-ORIGINAL-URL:https://grizzlypeakwinery.com
X-WR-CALDESC:Events for Grizzly Peak Winery - Ashland, Oregon
REFRESH-INTERVAL;VALUE=DURATION:PT1H
X-Robots-Tag:noindex
X-PUBLISHED-TTL:PT1H
BEGIN:VTIMEZONE
TZID:America/Los_Angeles
BEGIN:DAYLIGHT
TZOFFSETFROM:-0800
TZOFFSETTO:-0700
TZNAME:PDT
DTSTART:20250309T100000
END:DAYLIGHT
BEGIN:STANDARD
TZOFFSETFROM:-0700
TZOFFSETTO:-0800
TZNAME:PST
DTSTART:20251102T090000
END:STANDARD
BEGIN:DAYLIGHT
TZOFFSETFROM:-0800
TZOFFSETTO:-0700
TZNAME:PDT
DTSTART:20260308T100000
END:DAYLIGHT
BEGIN:STANDARD
TZOFFSETFROM:-0700
TZOFFSETTO:-0800
TZNAME:PST
DTSTART:20261101T090000
END:STANDARD
BEGIN:DAYLIGHT
TZOFFSETFROM:-0800
TZOFFSETTO:-0700
TZNAME:PDT
DTSTART:20270314T100000
END:DAYLIGHT
BEGIN:STANDARD
TZOFFSETFROM:-0700
TZOFFSETTO:-0800
TZNAME:PST
DTSTART:20271107T090000
END:STANDARD
END:VTIMEZONE
BEGIN:VEVENT
DTSTART;TZID=America/Los_Angeles:20260508T190000
DTEND;TZID=America/Los_Angeles:20260508T200000
DTSTAMP:20260419T175049
CREATED:20260402T234713Z
LAST-MODIFIED:20260402T234713Z
UID:1708-1778266800-1778270400@grizzlypeakwinery.com
SUMMARY:Cage Free Concerts Presents:  Le Vent du Nord
DESCRIPTION:The award winning and highly acclaimed band Le Vent du Nord are a leading force in Québec’s exciting and progressive Francophone folk movement. The group’s vast repertoire draws from both traditional sources and original compositions\, while their highly rhythmic and soulful music\, rooted in the Celtic diaspora\, is enhanced with a broad range of global influences. \nSince first launching in August 2002\, Le Vent du Nord has released 13 albums and racking up several prestigious awards\, including a Grand Prix du Disque Charles Cros\, two Junos (Canada’s Grammys)\, a Félix at ADISQ\, a Canadian Folk Music Award\, and “Artist of the Year” at Folk Alliance Annual Gala. \nThe group regularly appear on Canadian\, American\, French\, and UK television and radio and have participated in a wide variety of special musical projects that exhibit their great finesse and flexibility. They’ve collaborated and performed with a diverse range of artists including: Harry Manx\, Väsen\, Dervish\, The Chieftains\, Breton musical pioneer Yann-Fañch Kemener\, Québécois roots legend and master storyteller Michel Faubert\, the Scottish folk band Breabach\, Gaelic singer Julie Fowlis\, and the trans-Mediterranean ensemble Constantinople. \nLe Vent du Nord look beyond the standard approaches to tradition in their collaborations and they’ve also created a symphonic concert that\, according to Voir Montreal\, “puts all traditional folk naysayers to shame.” \nOn stage these five friends create intense\, joyful and dynamic live performances that expand the bounds of tradition in striking global directions. This is the modern sound of tradition\, a music of the here and now. \nTickets:  $40\nReservations Recommended via seats@cagefreeconcerts.com
URL:https://grizzlypeakwinery.com/event/cage-free-concerts-presents-le-vent-du-nord/
LOCATION:Grizzly Peak Winery\, 1600 E Nevada St\, Ashland\, OR\, 97520\, United States
ATTACH;FMTTYPE=application/pdf:https://grizzlypeakwinery.com/wp-content/uploads/2026/04/Le-Vent-du-Nord-POSTER.pdf
ORGANIZER;CN="Cage Free Concerts":MAILTO:seats@cagefreeconcerts.com
END:VEVENT
END:VCALENDAR